BEGIN:VCALENDAR
VERSION:2.0
PRODID:-// - ECPv6.15.20//NONSGML v1.0//EN
CALSCALE:GREGORIAN
METHOD:PUBLISH
X-ORIGINAL-URL:https://horseshoebrampton.ca
X-WR-CALDESC:Events for 
REFRESH-INTERVAL;VALUE=DURATION:PT1H
X-Robots-Tag:noindex
X-PUBLISHED-TTL:PT1H
BEGIN:VTIMEZONE
TZID:UTC
BEGIN:STANDARD
TZOFFSETFROM:+0000
TZOFFSETTO:+0000
TZNAME:UTC
DTSTART:20250101T000000
END:STANDARD
END:VTIMEZONE
BEGIN:VEVENT
DTSTART;VALUE=DATE:20260425
DTEND;VALUE=DATE:20260426
DTSTAMP:20260422T134818
CREATED:20210402T180311Z
LAST-MODIFIED:20260406T142558Z
UID:3865-1777075200-1777161599@horseshoebrampton.ca
SUMMARY:Clean up Day
DESCRIPTION:
URL:https://horseshoebrampton.ca/event/clean-up-day/
END:VEVENT
BEGIN:VEVENT
DTSTART;TZID=UTC:20260505T184500
DTEND;TZID=UTC:20260505T184500
DTSTAMP:20260422T134818
CREATED:20210402T180440Z
LAST-MODIFIED:20260406T142436Z
UID:3867-1778006700-1778006700@horseshoebrampton.ca
SUMMARY:Opening Day Ceremonies
DESCRIPTION:Play Starts at 7:00 pm
URL:https://horseshoebrampton.ca/event/opening-day-ceremonies/
END:VEVENT
BEGIN:VEVENT
DTSTART;VALUE=DATE:20260523
DTEND;VALUE=DATE:20260524
DTSTAMP:20260422T134818
CREATED:20201202T200753Z
LAST-MODIFIED:20260406T142325Z
UID:2127-1779494400-1779580799@horseshoebrampton.ca
SUMMARY:Founders Memorial Open Singles Tournament
DESCRIPTION:In memory of our 4 Founders of our Club  \nSingles format with players seeded into division\, according to their average.         \n                        \n  \n  \n 
URL:https://horseshoebrampton.ca/event/elwood-pembleton-memorial-open-singles-tournament/
LOCATION:Brampton Men’s Horseshoe Club
ATTACH;FMTTYPE=image/jpeg:https://horseshoebrampton.ca/wp-content/uploads/2020/11/SIGN.jpg
END:VEVENT
BEGIN:VEVENT
DTSTART;VALUE=DATE:20260606
DTEND;VALUE=DATE:20260607
DTSTAMP:20260422T134818
CREATED:20201202T195917Z
LAST-MODIFIED:20260406T142135Z
UID:2120-1780704000-1780790399@horseshoebrampton.ca
SUMMARY:KEN CONDIE Open Singles Sanction Tournament
DESCRIPTION:Please Click on KEN CONDIE OPEN SINGLES SANCTION TOURNAMENT ABOVE FOR FULL INFORMATION\nParticipants must be members of Horseshoe Ontario. \nMembership available day of tournament. \n$10.00 for first time membership and $30.00 to renew current membership \nRegistration 1/2 hour prior to start. \nRegistration Fee is $15.00 \nIn case of rain will be played on Sunday \nThis is a Horseshoe Ontario Sanctioned Tournament. \nAll participants must register in advance by Sunday June 1st.\nPlease email garybranning@gmail.com\nYour Horseshoe Ontario # and average must be presented at that time. \n “BBQ” Texas Burgers $3 and Jumbo Hotdogs $2 all  with the works \nPop – Water – Chocolate Bars $1.50
URL:https://horseshoebrampton.ca/event/2020-results-brampton-open-singles-sanction-tournament/
LOCATION:Brampton Men’s Horseshoe Club
END:VEVENT
BEGIN:VEVENT
DTSTART;VALUE=DATE:20260718
DTEND;VALUE=DATE:20260719
DTSTAMP:20260422T134818
CREATED:20220428T195426Z
LAST-MODIFIED:20260406T142218Z
UID:4299-1784332800-1784419199@horseshoebrampton.ca
SUMMARY:Sanctioned Open Singles Tournament
DESCRIPTION:Open to all Sanctioned Horseshoe Players \nA Singles Tournament run in Multiple divisions by average \nPlease email your name and current average to garybranning@gmail.com by July 6th
URL:https://horseshoebrampton.ca/event/bert-large-open-singles-tournament/
LOCATION:Brampton Men’s Horseshoe Club
END:VEVENT
BEGIN:VEVENT
DTSTART;VALUE=DATE:20260808
DTEND;VALUE=DATE:20260809
DTSTAMP:20260422T134818
CREATED:20220428T195520Z
LAST-MODIFIED:20260406T142046Z
UID:4301-1786147200-1786233599@horseshoebrampton.ca
SUMMARY:Mike Ryde Memorial Tournament
DESCRIPTION:
URL:https://horseshoebrampton.ca/event/club-members-tournament-3/
LOCATION:Brampton Men’s Horseshoe Club
END:VEVENT
BEGIN:VEVENT
DTSTART;TZID=UTC:20261101T180000
DTEND;TZID=UTC:20261101T233000
DTSTAMP:20260422T134818
CREATED:20221105T192705Z
LAST-MODIFIED:20260406T142406Z
UID:4716-1793556000-1793575800@horseshoebrampton.ca
SUMMARY:Brampton Men's Horseshoe Banquet
DESCRIPTION:
URL:https://horseshoebrampton.ca/event/brampton-mens-horseshoe-banquet/
LOCATION:Royal Canadian Legion\, 80 Mary Street\, Brampton\, Canada
END:VEVENT
BEGIN:VEVENT
DTSTART;VALUE=DATE:20270926
DTEND;VALUE=DATE:20270927
DTSTAMP:20260422T134818
CREATED:20220428T195627Z
LAST-MODIFIED:20260406T142518Z
UID:4303-1821916800-1822003199@horseshoebrampton.ca
SUMMARY:Brampton Fall Walking Doubles Tournament
DESCRIPTION:This is a Walking Doubles tournament. \n  \n  \n  \n 
URL:https://horseshoebrampton.ca/event/brampton-fall-open-doubles-tournament/
LOCATION:Brampton Men’s Horseshoe Club
END:VEVENT
END:VCALENDAR